BEGIN:VCALENDAR
VERSION:2.0
PRODID:-//Rose State College - ECPv6.15.18//NONSGML v1.0//EN
CALSCALE:GREGORIAN
METHOD:PUBLISH
X-WR-CALNAME:Rose State College
X-ORIGINAL-URL:https://rose.edu
X-WR-CALDESC:Events for Rose State College
REFRESH-INTERVAL;VALUE=DURATION:PT1H
X-Robots-Tag:noindex
X-PUBLISHED-TTL:PT1H
BEGIN:VTIMEZONE
TZID:America/Chicago
BEGIN:DAYLIGHT
TZOFFSETFROM:-0600
TZOFFSETTO:-0500
TZNAME:CDT
DTSTART:20230312T080000
END:DAYLIGHT
BEGIN:STANDARD
TZOFFSETFROM:-0500
TZOFFSETTO:-0600
TZNAME:CST
DTSTART:20231105T070000
END:STANDARD
BEGIN:DAYLIGHT
TZOFFSETFROM:-0600
TZOFFSETTO:-0500
TZNAME:CDT
DTSTART:20240310T080000
END:DAYLIGHT
BEGIN:STANDARD
TZOFFSETFROM:-0500
TZOFFSETTO:-0600
TZNAME:CST
DTSTART:20241103T070000
END:STANDARD
BEGIN:DAYLIGHT
TZOFFSETFROM:-0600
TZOFFSETTO:-0500
TZNAME:CDT
DTSTART:20250309T080000
END:DAYLIGHT
BEGIN:STANDARD
TZOFFSETFROM:-0500
TZOFFSETTO:-0600
TZNAME:CST
DTSTART:20251102T070000
END:STANDARD
BEGIN:DAYLIGHT
TZOFFSETFROM:-0600
TZOFFSETTO:-0500
TZNAME:CDT
DTSTART:20260308T080000
END:DAYLIGHT
BEGIN:STANDARD
TZOFFSETFROM:-0500
TZOFFSETTO:-0600
TZNAME:CST
DTSTART:20261101T070000
END:STANDARD
END:VTIMEZONE
BEGIN:VEVENT
DTSTART;VALUE=DATE:20250331
DTEND;VALUE=DATE:20250401
DTSTAMP:20260423T114924
CREATED:20250221T095020Z
LAST-MODIFIED:20250221T095042Z
UID:10000312-1743379200-1743465599@rose.edu
SUMMARY:Enrollment Begins For Returning Students
DESCRIPTION:
URL:https://rose.edu/event/enrollment-begins-for-returning-students/
CATEGORIES:Academic Calendar,Fall 2025,Summer 2025
END:VEVENT
BEGIN:VEVENT
DTSTART;VALUE=DATE:20250328
DTEND;VALUE=DATE:20250329
DTSTAMP:20260423T114924
CREATED:20250221T100328Z
LAST-MODIFIED:20250221T100328Z
UID:10000318-1743120000-1743206399@rose.edu
SUMMARY:Last Day to drop at 100% Refund
DESCRIPTION:Students enrolled in courses of shorter duration must withdraw on or before the first day of class to receive 100% refund.
URL:https://rose.edu/event/last-day-to-drop-at-100-refund-3/
CATEGORIES:Academic Calendar,Second 8-Week Session – Spring 2025
END:VEVENT
BEGIN:VEVENT
DTSTART;VALUE=DATE:20250326
DTEND;VALUE=DATE:20250327
DTSTAMP:20260423T114924
CREATED:20250221T100034Z
LAST-MODIFIED:20250221T100034Z
UID:10000316-1742947200-1743033599@rose.edu
SUMMARY:Last Day to Enroll
DESCRIPTION:
URL:https://rose.edu/event/last-day-to-enroll-3/
CATEGORIES:Academic Calendar,Second 8-Week Session – Spring 2025
END:VEVENT
BEGIN:VEVENT
DTSTART;VALUE=DATE:20250324
DTEND;VALUE=DATE:20250327
DTSTAMP:20260423T114924
CREATED:20250221T101134Z
LAST-MODIFIED:20250221T101134Z
UID:10000325-1742774400-1743033599@rose.edu
SUMMARY:Late Enrollment for the Second 8-Week Session
DESCRIPTION:
URL:https://rose.edu/event/late-enrollment-for-the-second-8-week-session/
CATEGORIES:Academic Calendar,Second 8-Week Session – Spring 2025
END:VEVENT
BEGIN:VEVENT
DTSTART;VALUE=DATE:20250324
DTEND;VALUE=DATE:20250325
DTSTAMP:20260423T114924
CREATED:20250221T101504Z
LAST-MODIFIED:20250221T101504Z
UID:10000327-1742774400-1742860799@rose.edu
SUMMARY:First Day of Late Enrollment Fee
DESCRIPTION:
URL:https://rose.edu/event/first-day-of-late-enrollment-fee-2/
CATEGORIES:Academic Calendar,Second 8-Week Session – Spring 2025
END:VEVENT
BEGIN:VEVENT
DTSTART;VALUE=DATE:20250324
DTEND;VALUE=DATE:20250325
DTSTAMP:20260423T114924
CREATED:20250221T101337Z
LAST-MODIFIED:20250221T101337Z
UID:10000326-1742774400-1742860799@rose.edu
SUMMARY:Classes Begin
DESCRIPTION:
URL:https://rose.edu/event/classes-begin-2/
CATEGORIES:Academic Calendar,Second 8-Week Session – Spring 2025
END:VEVENT
BEGIN:VEVENT
DTSTART;VALUE=DATE:20250317
DTEND;VALUE=DATE:20250323
DTSTAMP:20260423T114924
CREATED:20250221T100436Z
LAST-MODIFIED:20250221T101225Z
UID:10000319-1742169600-1742687999@rose.edu
SUMMARY:Spring Break
DESCRIPTION:
URL:https://rose.edu/event/spring-break/
CATEGORIES:Academic Calendar,Regular 16-Week Session – Spring 2025,Second 8-Week Session – Spring 2025
END:VEVENT
BEGIN:VEVENT
DTSTART;VALUE=DATE:20250315
DTEND;VALUE=DATE:20250316
DTSTAMP:20260423T114924
CREATED:20250221T094255Z
LAST-MODIFIED:20250221T094255Z
UID:10000310-1741996800-1742083199@rose.edu
SUMMARY:Last Day of Session
DESCRIPTION:
URL:https://rose.edu/event/last-day-of-session/
CATEGORIES:Academic Calendar,First 8-Week Session – Spring 2025
END:VEVENT
BEGIN:VEVENT
DTSTART;VALUE=DATE:20250314
DTEND;VALUE=DATE:20250315
DTSTAMP:20260423T114924
CREATED:20250221T100521Z
LAST-MODIFIED:20250221T100521Z
UID:10000320-1741910400-1741996799@rose.edu
SUMMARY:Last Day to Change from Credit to Audit
DESCRIPTION:
URL:https://rose.edu/event/last-day-to-change-from-credit-to-audit-2/
CATEGORIES:Academic Calendar,Regular 16-Week Session – Spring 2025
END:VEVENT
BEGIN:VEVENT
DTSTART;VALUE=DATE:20250312
DTEND;VALUE=DATE:20250314
DTSTAMP:20260423T114924
CREATED:20250221T094222Z
LAST-MODIFIED:20250221T094222Z
UID:10000309-1741737600-1741910399@rose.edu
SUMMARY:Final Examinations
DESCRIPTION:
URL:https://rose.edu/event/final-examinations/
CATEGORIES:Academic Calendar,First 8-Week Session – Spring 2025
END:VEVENT
BEGIN:VEVENT
DTSTART;VALUE=DATE:20250303
DTEND;VALUE=DATE:20250304
DTSTAMP:20260423T114924
CREATED:20250221T094129Z
LAST-MODIFIED:20250228T141410Z
UID:10000308-1740960000-1741046399@rose.edu
SUMMARY:Last Day to Withdraw from a Class
DESCRIPTION:Students enrolled in courses of shorter duration\, in this session\, must withdraw before 75% of each course has been completed.
URL:https://rose.edu/event/last-day-to-withdraw-from-a-class/
CATEGORIES:Academic Calendar,First 8-Week Session – Spring 2025
END:VEVENT
BEGIN:VEVENT
DTSTART;VALUE=DATE:20250217
DTEND;VALUE=DATE:20250218
DTSTAMP:20260423T114924
CREATED:20250221T094033Z
LAST-MODIFIED:20250221T094033Z
UID:10000307-1739750400-1739836799@rose.edu
SUMMARY:Last Day to Change from Credit to Audit
DESCRIPTION:
URL:https://rose.edu/event/last-day-to-change-from-credit-to-audit/
CATEGORIES:Academic Calendar,First 8-Week Session – Spring 2025
END:VEVENT
BEGIN:VEVENT
DTSTART;VALUE=DATE:20250203
DTEND;VALUE=DATE:20250204
DTSTAMP:20260423T114924
CREATED:20250221T100222Z
LAST-MODIFIED:20250221T100222Z
UID:10000317-1738540800-1738627199@rose.edu
SUMMARY:Last Day to drop at 100% Refund
DESCRIPTION:Students enrolled in courses of shorter duration must withdraw on or before the first day of class to receive 100% refund.
URL:https://rose.edu/event/last-day-to-drop-at-100-refund-2/
CATEGORIES:Academic Calendar,Regular 16-Week Session – Spring 2025
END:VEVENT
BEGIN:VEVENT
DTSTART;VALUE=DATE:20250127
DTEND;VALUE=DATE:20250128
DTSTAMP:20260423T114924
CREATED:20250221T095942Z
LAST-MODIFIED:20250221T095942Z
UID:10000315-1737936000-1738022399@rose.edu
SUMMARY:Last Day to Enroll
DESCRIPTION:
URL:https://rose.edu/event/last-day-to-enroll-2/
CATEGORIES:Academic Calendar,Regular 16-Week Session – Spring 2025
END:VEVENT
BEGIN:VEVENT
DTSTART;VALUE=DATE:20250127
DTEND;VALUE=DATE:20250128
DTSTAMP:20260423T114924
CREATED:20250221T093936Z
LAST-MODIFIED:20250221T093936Z
UID:10000306-1737936000-1738022399@rose.edu
SUMMARY:Last Day to drop at 100% Refund
DESCRIPTION:Students enrolled in courses of shorter duration must withdraw on or before the first day of class to receive 100% refund.
URL:https://rose.edu/event/last-day-to-drop-at-100-refund/
CATEGORIES:Academic Calendar,First 8-Week Session – Spring 2025
END:VEVENT
BEGIN:VEVENT
DTSTART;VALUE=DATE:20250123
DTEND;VALUE=DATE:20250124
DTSTAMP:20260423T114924
CREATED:20250221T093757Z
LAST-MODIFIED:20250221T093757Z
UID:10000305-1737590400-1737676799@rose.edu
SUMMARY:Last Day to Enroll
DESCRIPTION:
URL:https://rose.edu/event/last-day-to-enroll/
CATEGORIES:Academic Calendar,First 8-Week Session – Spring 2025
END:VEVENT
BEGIN:VEVENT
DTSTART;VALUE=DATE:20250121
DTEND;VALUE=DATE:20250127
DTSTAMP:20260423T114924
CREATED:20250221T095659Z
LAST-MODIFIED:20250221T095659Z
UID:10000314-1737417600-1737935999@rose.edu
SUMMARY:Late Enrollment for the 16-Week Session
DESCRIPTION:
URL:https://rose.edu/event/late-enrollment-for-the-16-week-session/
CATEGORIES:Academic Calendar,Regular 16-Week Session – Spring 2025
END:VEVENT
BEGIN:VEVENT
DTSTART;VALUE=DATE:20250121
DTEND;VALUE=DATE:20250124
DTSTAMP:20260423T114924
CREATED:20250221T092945Z
LAST-MODIFIED:20250221T092945Z
UID:10000300-1737417600-1737676799@rose.edu
SUMMARY:Late Enrollment for the First 8-Week Session
DESCRIPTION:
URL:https://rose.edu/event/late-enrollment-for-the-first-8-week-session/
CATEGORIES:Academic Calendar,First 8-Week Session – Spring 2025
END:VEVENT
BEGIN:VEVENT
DTSTART;VALUE=DATE:20250121
DTEND;VALUE=DATE:20250122
DTSTAMP:20260423T114924
CREATED:20250221T093651Z
LAST-MODIFIED:20250221T093651Z
UID:10000304-1737417600-1737503999@rose.edu
SUMMARY:First Day of Late Enrollment Fee
DESCRIPTION:
URL:https://rose.edu/event/first-day-of-late-enrollment-fee/
CATEGORIES:Academic Calendar,First 8-Week Session – Spring 2025,Regular 16-Week Session – Spring 2025
END:VEVENT
BEGIN:VEVENT
DTSTART;VALUE=DATE:20250121
DTEND;VALUE=DATE:20250122
DTSTAMP:20260423T114924
CREATED:20250221T093534Z
LAST-MODIFIED:20250221T093534Z
UID:10000303-1737417600-1737503999@rose.edu
SUMMARY:Classes Begin
DESCRIPTION:
URL:https://rose.edu/event/classes-begin/
CATEGORIES:Academic Calendar,First 8-Week Session – Spring 2025,Regular 16-Week Session – Spring 2025
END:VEVENT
BEGIN:VEVENT
DTSTART;VALUE=DATE:20250120
DTEND;VALUE=DATE:20250121
DTSTAMP:20260423T114924
CREATED:20250221T093349Z
LAST-MODIFIED:20250221T093349Z
UID:10000302-1737331200-1737417599@rose.edu
SUMMARY:Martin Luther King\, Jr.\, Day Holiday
DESCRIPTION:
URL:https://rose.edu/event/martin-luther-king-jr-day-holiday/
CATEGORIES:Academic Calendar,First 8-Week Session – Spring 2025,Regular 16-Week Session – Spring 2025
END:VEVENT
BEGIN:VEVENT
DTSTART;TZID=America/Chicago:20250118T090000
DTEND;TZID=America/Chicago:20250118T140000
DTSTAMP:20260423T114924
CREATED:20250221T093235Z
LAST-MODIFIED:20250221T093235Z
UID:10000301-1737190800-1737208800@rose.edu
SUMMARY:Special Saturday Enrollment from 9 a.m.-2 p.m.
DESCRIPTION:
URL:https://rose.edu/event/special-saturday-enrollment-from-9-a-m-2-p-m/
CATEGORIES:Academic Calendar,First 8-Week Session – Spring 2025,Regular 16-Week Session – Spring 2025
END:VEVENT
BEGIN:VEVENT
DTSTART;VALUE=DATE:20241104
DTEND;VALUE=DATE:20241105
DTSTAMP:20260423T114924
CREATED:20250221T092702Z
LAST-MODIFIED:20250221T092702Z
UID:10000299-1730678400-1730764799@rose.edu
SUMMARY:Beginning Enrollment for New Students
DESCRIPTION:
URL:https://rose.edu/event/beginning-enrollment-for-new-students/
CATEGORIES:Academic Calendar,First 8-Week Session – Spring 2025,Regular 16-Week Session – Spring 2025,Second 8-Week Session – Spring 2025
END:VEVENT
BEGIN:VEVENT
DTSTART;VALUE=DATE:20241028
DTEND;VALUE=DATE:20241029
DTSTAMP:20260423T114924
CREATED:20250220T143743Z
LAST-MODIFIED:20250221T092756Z
UID:10000298-1730073600-1730159999@rose.edu
SUMMARY:Beginning Enrollment for Returning Students
DESCRIPTION:
URL:https://rose.edu/event/beginning-enrollment-for-returning-students/
CATEGORIES:Academic Calendar,First 8-Week Session – Spring 2025,Regular 16-Week Session – Spring 2025,Second 8-Week Session – Spring 2025
END:VEVENT
END:VCALENDAR