BEGIN:VCALENDAR
VERSION:2.0
PRODID:-//Rose State College - ECPv6.15.18//NONSGML v1.0//EN
CALSCALE:GREGORIAN
METHOD:PUBLISH
X-ORIGINAL-URL:https://rose.edu
X-WR-CALDESC:Events for Rose State College
REFRESH-INTERVAL;VALUE=DURATION:PT1H
X-Robots-Tag:noindex
X-PUBLISHED-TTL:PT1H
BEGIN:VTIMEZONE
TZID:America/Chicago
BEGIN:DAYLIGHT
TZOFFSETFROM:-0600
TZOFFSETTO:-0500
TZNAME:CDT
DTSTART:20240310T080000
END:DAYLIGHT
BEGIN:STANDARD
TZOFFSETFROM:-0500
TZOFFSETTO:-0600
TZNAME:CST
DTSTART:20241103T070000
END:STANDARD
BEGIN:DAYLIGHT
TZOFFSETFROM:-0600
TZOFFSETTO:-0500
TZNAME:CDT
DTSTART:20250309T080000
END:DAYLIGHT
BEGIN:STANDARD
TZOFFSETFROM:-0500
TZOFFSETTO:-0600
TZNAME:CST
DTSTART:20251102T070000
END:STANDARD
BEGIN:DAYLIGHT
TZOFFSETFROM:-0600
TZOFFSETTO:-0500
TZNAME:CDT
DTSTART:20260308T080000
END:DAYLIGHT
BEGIN:STANDARD
TZOFFSETFROM:-0500
TZOFFSETTO:-0600
TZNAME:CST
DTSTART:20261101T070000
END:STANDARD
END:VTIMEZONE
BEGIN:VEVENT
DTSTART;TZID=America/Chicago:20251003T160000
DTEND;TZID=America/Chicago:20251003T200000
DTSTAMP:20260424T083924
CREATED:20250903T200609Z
LAST-MODIFIED:20250903T200609Z
UID:10000365-1759507200-1759521600@rose.edu
SUMMARY:RSC Volleyball vs Coffeyville & Cowley
DESCRIPTION:RSC Volleyball vs Coffeyville & Cowley \nDate: Friday\, 10/3 \nTime: 4 PM & 6 PM \nLocation: Arkansas City\, KS
URL:https://rose.edu/event/rsc-volleyball-vs-coffeyville-cowley/
LOCATION:OK
CATEGORIES:Athletics
END:VEVENT
END:VCALENDAR